Workbook
Name VAS073_F_Visospaskirsto13IsViso: #REF!
Name VAS073_F_Visospaskirsto141NuotekuSurinkimas: #REF!
Name VAS073_F_Visospaskirsto142NuotekuValymas: #REF!
Name VAS073_F_Visospaskirsto143NuotekuDumblo: #REF!
Name VAS073_F_Visospaskirsto14IsViso: #REF!
Name VAS073_F_Visospaskirsto15PavirsiniuNuoteku: #REF!
Name VAS073_F_Visospaskirsto17KitosVeiklos: #REF!
Name VAS073_F_Visospaskirsto1Apskaitosveikla1: #REF!
Name VAS073_F_Visospaskirsto1Kitareguliuoja1: #REF!

Sheet 1
E2: Geriamojo vandens tiekimo ir nuotekų tvarkymo bei paviršinių nuotekų tvarkymo paslaugų įmonių apskaitos atskyrimo taisyklių ir susijusių reikalavimų sąvado 1 priedas
D3: Ilgalaikio turto grupių ir nusidėvėjimo (amortizacijos) skaičiavimo laikotarpių sąrašas
C5: Eil. Nr. | D5: Ilgalaikio turto grupės | E5: Laikotarpis, metais
C6: I. | D6: NEMATERIALUSIS TURTAS
C7: I.1. | D7: standartinė programinė įranga | E7: 4
C8: I.1. | D8: spec. programinė įranga | E8: 4-15
C9: I.1. | D9: kitas nematerialus turtas | E9: 4-15
C10: II.2. | D10: PASTATAI IR STATINIAI
C11: II.2.1. | D11: Pastatai (administraciniai, gamybiniai-ūkiniai ir pan.) | E11: 50-70
C12: II.2.2. | D12: keliai, aikštelės, šaligatviai ir tvoros | E12: 27-30
C13: II.2.3. | D13: geriamojo vandens tiekimo ir nuotekų surinkimo vamzdynai | E13: 50
C14: II.2.4. | D14: šilumos ir karšto vandens tiekimo vamzdynai | E14: 30
C15: II.2.5. | D15: saulės šviesos elektrinės | E15: 20
C16: II.2.6. | D16: Kiti įrenginiai (siurblinių statiniai, vandentiekio įrenginiai, nusodintuvai, diukeriai, vandens rezervuarai, gelžbetoniniai metantankai, smėlio gaudytuvai, aerotankai, nusodintuvai, nuotekų valymo flotatoriai, dumblo aikštelės ir kt.) | E16: 35
C17: II.3. | D17: MAŠINOS IR ĮRANGA
C18: II.3.1. | D18: vandens siurbliai, nuotekų ir dumblo siurbliai virš 5 kW, kita įranga ( siurblių valdymo įranga, elektrotechninė įranga, stacionarios ir mobilios darbo bei hidrodinaminės mašinos, staklės, sklendės, grotelės, grėbliai, grandikliai, filtrai, centrifugos) | E18: 10
C19: II.3.2. | D19: nuotekų ir dumblo siurbliai iki 5 kW | E19: 5
C20: II.4. | D20: KITI ĮRENGINIAI, PRIETAISAI IR ĮRANKIAI
C21: II.4.1. | D21: geriamojo vandens apskaitos prietaisai | E21: Ne mažesnis už metrologinės patikros galiojimo metų skaičių
C22: II.4.2. | D22: atsiskaitomieji karšto vandens apskaitos prietaisai | E22: Metrologinės patikros galiojimo metų skaičius
C23: II.4.3. | D23: šilumos (atsiskaitomieji ir neatsiskaitomieji) apskaitos prietaisai | E23: 7
C24: II.4.4. | D24: kiti geriamojo vandens ir nuotekų apskaitos prietaisai (įrengti gręžiniuose, įrenginiuose ir.t.t) | E24: 6
C25: II.4.5. | D25: Kompiuteriai, kompiuteriniai tinklai ir jų įranga | E25: 4
C26: II.4.6. | D26: įrankiai (matavimo priemonės, elektriniai įrankiai ir prietaisai, gamybinis inventorius ir kt.) | E26: 6
C27: II.5. | D27: TRANSPORTO PRIEMONĖS
C28: II.5.1. | D28: lengvieji automobiliai | E28: 7
C29: II.5.2. | D29: kitos transporto priemonės (transportas dumblui, vandeniui vežti, autobusai žmonėms vežti) | E29: 10

Sheet 3
E2: Geriamojo vandens tiekimo ir nuotekų tvarkymo bei paviršinių nuotekų tvarkymo paslaugų įmonių apskaitos atskyrimo taisyklių ir susijusių reikalavimų sąvado 3 priedas
C3: Ūkio subjektas: UAB „Kretingos vandenys“
C4: Ataskaitinis laikotarpis: 2025-01-01 - 2025-12-31
C6: Ataskaitinio laikotarpio reguliuojamosios veiklos pelno (nuostolių) ataskaita (tūkst. Eur)
B9: Eil. Nr. | C9: STRAIPSNIAI | D9: Ataskaitinis laikotarpis | E9: Paaiškinimai
B10: I. | C10: PAJAMOS
B11: A. | C11: (GARANTINIO) GERIAMOJO VANDENS TIEKIMO IR NUOTEKŲ TVARKYMO (GVTNT) PAJAMOS: | D11: =D12+D15+D31 -> 3366.3897
B12: A.1. | C12: (garantinio) geriamojo vandens tiekimo (GVT) pajamos | D12: =SUM(D13:D14) -> 1380.9651
B13: A.1.1. | C13: geriamojo vandens tiekimo pajamos | D13: 1371.5641
B14: A.1.2. | C14: GVTNT ilgalaikio turto nuomos pajamos | D14: 9.40092
B15: A.2. | C15: (garantinio) nuotekų tvarkymo (NT) veiklos pajamos | D15: =D16+D20+D26 -> 1860.2021
B16: A.2.1. | C16: (garantinis) nuotekų surinkimas centralizuotais nuotekų surinkimo tinklais pajamos | D16: =SUM(D17:D19) -> 933.36078
B17: A.2.1.1. | C17: pajamos už buitinių ir gamybinių nuotekų surinkimą | D17: 933.36078
B18: A.2.1.2. | C18: pajamos už paviršinių nuotekų tvarkymą, jei yra mišri nuotekų surinkimo sistema | D18: 0
B19: A.2.1.3. | C19: GVTNT ilgalaikio turto nuomos pajamos | D19: 0 | J19: `
B20: A.2.2. | C20: (garantinio) nuotekų valymo pajamos | D20: =SUM(D21:D25) -> 801.0058
B21: A.2.2.1. | C21: pajamos už buitinių ir gamybinių nuotekų valymą (be padidėjusios taršos) | D21: 689.90466
B22: A.2.2.2. | C22: pajamos už padidėjusią ir savitąją taršą | D22: 111.10114
B23: A.2.2.3. | C23: pajamos už paviršinių nuotekų tvarkymą, jei yra mišri nuotekų surinkimo sistema | D23: 0
B24: A.2.2.4. | C24: GVTNT ilgalaikio turto nuomos pajamos | D24: 0
B25: A.2.2.5. | C25: Elektros energijos telkimo pajamos | D25: 0
B26: A.2.3. | C26: (garantinio) nuotekų dumblo tvarkymo pajamos | D26: =SUM(D27:D30) -> 125.8355
B27: A.2.3.1. | C27: pajamos už dumblo tvarkymą (be kitų bendrovių atvežto nuotekų dumblo) | D27: 125.8355
B28: A.2.3.2. | C28: pajamos už kitų bendrovių atvežtą tvarkyti nuotekų dumblą | D28: 0
B29: A.2.3.3. | C29: pajamos už paviršinių nuotekų tvarkymą, jei yra mišri nuotekų surinkimo sistema | D29: 0
B30: A.2.3.4. | C30: GVTNT ilgalaikio turto nuomos pajamos | D30: 0
B31: A.3. | C31: paviršinių nuotekų tvarkymo pajamos | D31: =SUM(D32+D33) -> 125.2226
B32: A.3.1. | C32: pajamos už paviršinių nuotekų tvarkymą, jei yra atskira paviršinių nuotekų surinkimo sistema | D32: 125.2226
B33: A.3.2. | C33: GVTNT ilgalaikio turto nuomos pajamos | D33: 0
B34: B. | C34: KITŲ VEIKLŲ PAJAMOS | D34: =D35+D40 -> 614.3438
B35: B.1. | C35: (garantinio vandens tiekėjo) kitos reguliuojamosios veiklos pajamos | D35: =SUM(D36:D39) -> 190.44407
B36: B.1.1. | C36: apskaitos veiklos pajamos | D36: 190.44407
B37: B.1.2. | C37: garantiniam tiekėjui sumokėtų įmokų pajamos | D37: 0
B38: B.1.3. | C38: kitos reguliuojamos veiklos pajamos | D38: 0
B39: B.1.4. | C39: GVTNT ilgalaikio turto nuomos pajamos | D39: 0
B40: B.2. | C40: (garantinio vandens tiekėjo) nereguliuojamosios veiklos pajamos | D40: =SUM(D41:D43) -> 423.89973
B41: B.2.1. | C41: nereguliuojamos veiklos pajamos (įskaitant finansinę veiklą) | D41: 414.49881
B42: B.2.2. | C42: GVTNT ilgalaikio turto nuomos pajamos | D42: =+SUM(D14,D19,D24,D30,D33) -> 9.40092
B43: B.2.3. | C43: Elektros energijos telkimo pajamos | D43: 0
B44: II. | C44: PASKIRSTOMOSIOS SĄNAUDOS | D44: =D45+D52 -> 3014.3473 | E44: 4 priedas
...

Sheet 4
C2: Ūkio subjektas: UAB „Kretingos vandenys“ | Q2: Geriamojo vandens tiekimo ir nuotekų tvarkymo bei paviršinių nuotekų tvarkymo paslaugų įmonių apskaitos atskyrimo taisyklių ir susijusių reikalavimų sąvado 4 priedas
C3: Ataskaitinis laikotarpis: 2025-01-01 - 2025-12-31
C5: Ataskaitinio laikotarpio reguliuojamos veiklos sąnaudų paskirstymo verslo vienetams ir paslaugoms ataskaita (tūkst. Eur)
B9: Eil. Nr. | C9: SĄNAUDOS | D9: 1. IŠ VISO | E9: 2. Iš viso GVT | F9: 2.1. Geriamojo vandens gavyba | G9: 2.2. Geriamojo vandens ruošimas | H9: 2.3. Geriamojo vandens pristatymas | I9: 3. Iš viso NT | J9: 3.1. Nuotekų surinkimas | K9: 3.2. Nuotekų valymas | L9: 3.3. Nuotekų dumblo tvarkymas | M9: 4. Paviršinių nuotekų tvarkymas (tik esant atskirai paviršinių nuotekų tvarkymo sistemai) | N9: 5. Kitos reguliuojamosios veiklos verslo vienetas | O9: 5.1. Apskaitos veikla | P9: 5.2. Kita reguliuojama veikla | Q9: 6. Kitos veiklos (nereguliuojamosios veiklos) verslo vienetas
B10: A. | C10: PASKIRSTOMŲJŲ SĄNAUDŲ SUVESTINĖ
B11: A.1. | C11: Geriamojo vandens įsigijimo sąnaudos | D11: =D30 -> 0 | E11: =E30 -> 0 | F11: =F30 -> 0 | G11: =G30 -> 0 | H11: =H30 -> 0 | I11: =I30 -> 0 | J11: =J30 -> 0 | K11: =K30 -> 0 | ... M11: =M30 -> 0 | N11: =+O11+P11 -> 0 | O11: =O30 -> 0 | P11: =P30 -> 0 | Q11: =Q30 -> 0
B12: A.2. | C12: Nuotekų tvarkymo paslaugų pirkimo sąnaudos | D12: =D31 -> 0 | E12: =E31 -> 0 | F12: =F31 -> 0 | G12: =G31 -> 0 | H12: =H31 -> 0 | I12: =I31 -> 0 | J12: =J31 -> 0 | K12: =K31 -> 0 | ... M12: =M31 -> 0 | N12: =+O12+P12 -> 0 | O12: =O31 -> 0 | P12: =P31 -> 0 | Q12: =Q31 -> 0
B13: A.3. | C13: Elektros energijos sąnaudos, iš šio skaičiaus | D13: =D34+D93+D191 -> 467.73954 | E13: =E34+E93+E191 -> 157.93613 | F13: =F34+F93+F191 -> 88.799132 | G13: =G34+G93+G191 -> 32.243941 | H13: =H34+H93+H191 -> 36.893057 | I13: =I34+I93+I191 -> 306.91837 | J13: =J34+J93+J191 -> 77.697814 | K13: =K34+K93+K191 -> 218.46113 | ... M13: =M34+M93+M191 -> 0.76167322 | N13: =+O13+P13 -> 1.0254404 | O13: =O34+O93+O191 -> 1.0254404 | P13: =P34+P93+P191 -> 0 | Q13: =Q34+Q93+Q191 -> 1.0979262
B14: A.3.1. | C14: Elektros energija siurbliams, orapūtėms, maišyklėms ir kitiems technologiniams įrenginiams | D14: =D35+D94 -> 403.63719 | E14: =E35+E94 -> 136.35586 | F14: =F35+F94 -> 78.63388 | G14: =G35+G94 -> 27.91036 | H14: =H35+H94 -> 29.81162 | I14: =I35+I94 -> 266.18251 | J14: =J35+J94 -> 64.88528 | K14: =K35+K94 -> 192.08735 | ... M14: =M35+M94 -> 0.18411 | N14: =+O14+P14 -> 0 | O14: =O35+O94 -> 0 | P14: =P35+P94 -> 0 | Q14: =Q35+Q94 -> 0.91471
B15: A.4. | C15: Technologinių medžiagų ir technologinio kuro sąnaudos | D15: =D37 -> 20.53005 | E15: =E37 -> 13.2266 | F15: =F37 -> 0 | G15: =G37 -> 13.2266 | H15: =H37 -> 0 | I15: =I37 -> 7.30345 | J15: =J37 -> 0 | K15: =K37 -> 2.1887 | ... M15: =M37 -> 0 | N15: =+O15+P15 -> 0 | O15: =O37 -> 0 | P15: =P37 -> 0 | Q15: =Q37 -> 0
B16: A.5. | C16: Einamojo remonto ir aptarnavimo sąnaudos, iš šio skaičius: | D16: =D45+D101+D198 -> 156.76618 | E16: =E45+E101+E198 -> 53.38205 | F16: =F45+F101+F198 -> 3.4018118 | G16: =G45+G101+G198 -> 29.303291 | H16: =H45+H101+H198 -> 20.676947 | I16: =I45+I101+I198 -> 80.165388 | J16: =J45+J101+J198 -> 48.802346 | K16: =K45+K101+K198 -> 24.472497 | ... M16: =M45+M101+M198 -> 3.8453534 | N16: =+O16+P16 -> 10.423225 | O16: =O45+O101+O198 -> 10.423225 | P16: =P45+P101+P198 -> 0 | Q16: =Q45+Q101+Q198 -> 8.9501641
B17: A.5.1. | C17: Remonto medžiagų ir detalių sąnaudos | D17: =D46+D102+D199 -> 68.05485 | E17: =E46+E102+E199 -> 43.197383 | F17: =F46+F102+F199 -> 2.7853985 | G17: =G46+G102+G199 -> 26.285373 | H17: =H46+H102+H199 -> 14.126611 | I17: =I46+I102+I199 -> 18.391456 | J17: =J46+J102+J199 -> 9.8325094 | K17: =K46+K102+K199 -> 7.8479958 | ... M17: =M46+M102+M199 -> 1.7620471 | N17: =+O17+P17 -> 2.9141224 | O17: =O46+O102+O199 -> 2.9141224 | P17: =P46+P102+P199 -> 0 | Q17: =Q46+Q102+Q199 -> 1.7898413
B18: A.5.2. | C18: Avarijų šalinimo sąnaudos | D18: =D49+D105+D202 -> 0.336 | E18: =E49+E105+E202 -> 0.336 | F18: =F49+F105+F202 -> 0 | G18: =G49+G105+G202 -> 0 | H18: =H49+H105+H202 -> 0.336 | I18: =I49+I105+I202 -> 0 | J18: =J49+J105+J202 -> 0 | K18: =K49+K105+K202 -> 0 | ... M18: =M49+M105+M202 -> 0 | N18: =+O18+P18 -> 0 | O18: =O49+O105+O202 -> 0 | P18: =P49+P105+P202 -> 0 | Q18: =Q49+Q105+Q202 -> 0
B19: A.5.3. | C19: Remonto ir aptarnavimo paslaugų pirkimo sąnaudos | D19: =D47+D103+D200 -> 81.12975 | E19: =E47+E103+E200 -> 9.2696093 | F19: =F47+F103+F200 -> 0.58788995 | G19: =G47+G103+G200 -> 2.9123282 | H19: =H47+H103+H200 -> 5.7693911 | I19: =I47+I103+I200 -> 60.746715 | J19: =J47+J103+J200 -> 38.209936 | K19: =K47+K103+K200 -> 16.378509 | ... M19: =M47+M103+M200 -> 2.0375621 | N19: =+O19+P19 -> 1.9164717 | O19: =O47+O103+O200 -> 1.9164717 | P19: =P47+P103+P200 -> 0 | Q19: =Q47+Q103+Q200 -> 7.1593924
B20: A.6. | C20: Personalo sąnaudos, iš šio skaičius: | D20: =D52+D108+D205 -> 1486.7201 | E20: =E52+E108+E205 -> 508.84822 | F20: =F52+F108+F205 -> 69.206383 | G20: =G52+G108+G205 -> 80.467407 | H20: =H52+H108+H205 -> 359.17443 | I20: =I52+I108+I205 -> 737.35582 | J20: =J52+J108+J205 -> 385.62637 | K20: =K52+K108+K205 -> 301.86982 | ... M20: =M52+M108+M205 -> 82.667258 | N20: =+O20+P20 -> 125.04869 | O20: =O52+O108+O205 -> 125.04869 | P20: =P52+P108+P205 -> 0 | Q20: =Q52+Q108+Q205 -> 32.800074
B21: A.6.1. | C21: Darbo užmokesčio sąnaudos | D21: =D53+D109+D206 -> 1442.8854 | E21: =E53+E109+E206 -> 493.78065 | F21: =F53+F109+F206 -> 67.407214 | G21: =G53+G109+G206 -> 78.201447 | H21: =H53+H109+H206 -> 348.17199 | I21: =I53+I109+I206 -> 715.07279 | J21: =J53+J109+J206 -> 372.87346 | K21: =K53+K109+K206 -> 293.5817 | ... M21: =M53+M109+M206 -> 80.4615 | N21: =+O21+P21 -> 121.5574 | O21: =O53+O109+O206 -> 121.5574 | P21: =P53+P109+P206 -> 0 | Q21: =Q53+Q109+Q206 -> 32.013082
B22: A.7. | C22: Perkamų paslaugų (veiklos rangos) sąnaudos | D22: =D32+D33+D47+D69+D71+D75+D77+D78+D79+D81+D87+D88+D103+D122+D124+D128+D131+D132+D134+D140+D141+D200+D219+D221+D225+D227+D228+D229+D231+D238+D239+D130 -> 318.19405 | E22: =E32+E33+E47+E69+E71+E75+E77+E78+E79+E81+E87+E88+E103+E122+E124+E128+E131+E132+E134+E140+E141+E200+E219+E221+E225+E227+E228+E229+E231+E238+E239+E130 -> 57.340204 | F22: =F32+F33+F47+F69+F71+F75+F77+F78+F79+F81+F87+F88+F103+F122+F124+F128+F131+F132+F134+F140+F141+F200+F219+F221+F225+F227+F228+F229+F231+F238+F239+F130 -> 6.3799153 | G22: =G32+G33+G47+G69+G71+G75+G77+G78+G79+G81+G87+G88+G103+G122+G124+G128+G131+G132+G134+G140+G141+G200+G219+G221+G225+G227+G228+G229+G231+G238+G239+G130 -> 14.269534 | H22: =H32+H33+H47+H69+H71+H75+H77+H78+H79+H81+H87+H88+H103+H122+H124+H128+H131+H132+H134+H140+H141+H200+H219+H221+H225+H227+H228+H229+H231+H238+H239+H130 -> 36.690755 | I22: =I32+I33+I47+I69+I71+I75+I77+I78+I79+I81+I87+I88+I103+I122+I124+I128+I131+I132+I134+I140+I141+I200+I219+I221+I225+I227+I228+I229+I231+I238+I239+I130 -> 239.1388 | J22: =J32+J33+J47+J69+J71+J75+J77+J78+J79+J81+J87+J88+J103+J122+J124+J128+J131+J132+J134+J140+J141+J200+J219+J221+J225+J227+J228+J229+J231+J238+J239+J130 -> 78.888353 | K22: =K32+K33+K47+K69+K71+K75+K77+K78+K79+K81+K87+K88+K103+K122+K124+K128+K131+K132+K134+K140+K141+K200+K219+K221+K225+K227+K228+K229+K231+K238+K239+K130 -> 123.56438 | ... M22: =M32+M33+M47+M69+M71+M75+M77+M78+M79+M81+M87+M88+M103+M122+M124+M128+M131+M132+M134+M140+M141+M200+M219+M221+M225+M227+M228+M229+M231+M238+M239+M130 -> 6.6438872 | N22: =+O22+P22 -> 6.1353505 | O22: =O32+O33+O47+O69+O71+O75+O77+O78+O79+O81+O87+O88+O103+O122+O124+O128+O131+O132+O134+O140+O141+O200+O219+O221+O225+O227+O228+O229+O231+O238+O239+O130 -> 6.1353505 | P22: =P32+P33+P47+P69+P71+P75+P77+P78+P79+P81+P87+P88+P103+P122+P124+P128+P131+P132+P134+P140+P141+P200+P219+P221+P225+P227+P228+P229+P231+P238+P239+P130 -> 0 | Q22: =Q32+Q33+Q47+Q69+Q71+Q75+Q77+Q78+Q79+Q81+Q87+Q88+Q103+Q122+Q124+Q128+Q131+Q132+Q134+Q140+Q141+Q200+Q219+Q221+Q225+Q227+Q228+Q229+Q231+Q238+Q239+Q130 -> 8.9358121
B23: A.B. | C23: VISOS PASKIRSTOMOSIOS SĄNAUDOS, IŠ ŠIO SKAIČIAUS: | D23: =D29+D92+D190 -> 3014.3473 | E23: =E29+E92+E190 -> 1074.6886 | F23: =F29+F92+F190 -> 301.83018 | G23: =G29+G92+G190 -> 195.0924 | H23: =H29+H92+H190 -> 577.76598 | I23: =I29+I92+I190 -> 1558.6761 | J23: =J29+J92+J190 -> 690.98695 | K23: =K29+K92+K190 -> 750.78852 | ... M23: =M29+M92+M190 -> 123.03686 | N23: =+O23+P23 -> 201.78935 | O23: =O29+O92+O190 -> 201.78935 | P23: =P29+P92+P190 -> 0 | Q23: =Q29+Q92+Q190 -> 56.15641
B24: A.B.1. | C24: Pastoviosios paskirstomosios sąnaudos, iš šio skaičius: | D24: =O24+E24+I24+M24+P24+Q24 -> 2447.229 | E24: =SUM(E25:E27) -> 807.28711 | F24: =SUM(F25:F27) -> 105.3773 | G24: =SUM(G25:G27) -> 153.95544 | H24: =SUM(H25:H27) -> 547.95436 | I24: =SUM(I25:I27) -> 1263.4271 | J24: =SUM(J25:J27) -> 626.10167 | K24: =SUM(K25:K27) -> 534.74947 | L24: =SUM(L25:L27) -> 102.57598 | M24: =SUM(M25:M27) -> 119.48375 | N24: =+O24+P24 -> 201.78935 | O24: =SUM(O25:O27) -> 201.78935 | P24: =SUM(P25:P27) -> 0 | Q24: =SUM(Q25:Q27) -> 55.2417
B25: A.B.1.1. | C25: Tiesioginės pastoviosios sąnaudos | D25: =O25+E25+I25+M25+P25+Q25 -> 1398.0525 | E25: =SUM(F25:H25) -> 453.84094 | F25: =F29-F30-F31-F35-F38-F39-F59-F60-F91 -> 69.713888 | G25: =G29-G30-G31-G35-G38-G39-G59-G60-G91 -> 87.627992 | H25: =H29-H30-H31-H35-H38-H39-H59-H60-H91 -> 296.49906 | I25: =SUM(J25:L25) -> 683.35338 | J25: =J29-J30-J31-J35-J38-J39-J59-J60-J91 -> 282.81877 | K25: =K29-K30-K31-K35-K38-K39-K59-K60-K91 -> 331.24082 | L25: =L29-L30-L31-L35-L38-L39-L59-L60-L91 -> 69.293795 | M25: =M29-M30-M31-M35-M38-M39-M59-M60-M91 -> 76.063734 | N25: =+O25+P25 -> 145.12814 | O25: =O29-O30-O31-O35-O38-O39-O59-O60-O91 -> 145.12814 | P25: =P29-P30-P31-P35-P38-P39-P59-P60-P91 -> 0 | Q25: =Q29-Q30-Q31-Q35-Q38-Q39-Q59-Q60-Q91 -> 39.666313
B26: A.B.1.2. | C26: Netiesioginės pastoviosios sąnaudos | D26: =O26+E26+I26+M26+P26+Q26 -> 368.3537 | E26: =SUM(F26:H26) -> 128.85767 | F26: =F92-F94-F143 -> 6.3472895 | G26: =G92-G94-G143 -> 23.496815 | H26: =H92-H94-H143 -> 99.013568 | I26: =SUM(J26:L26) -> 228.5864 | J26: =J92-J94-J143 -> 169.10047 | K26: =K92-K94-K143 -> 54.740544 | L26: =L92-L94-L143 -> 4.7453941 | M26: =M92-M94-M143 -> 10.179456 | N26: =+O26+P26 -> 0.52310331 | O26: =O92-O94-O143 -> 0.52310331 | P26: =P92-P94-P143 -> 0 | Q26: =Q92-Q94-Q143 -> 0.20706226
B27: A.B.1.3. | C27: Bendrosios pastoviosios sąnaudos | D27: =O27+E27+I27+M27+P27+Q27 -> 680.82283 | E27: =SUM(F27:H27) -> 224.5885 | F27: =F190 -> 29.316125 | G27: =G190 -> 42.830638 | H27: =H190 -> 152.44173 | I27: =SUM(J27:L27) -> 351.48734 | J27: =J190 -> 174.18243 | K27: =K190 -> 148.76811 | L27: =L190 -> 28.536794 | M27: =M190 -> 33.24056 | N27: =+O27+P27 -> 56.138104 | O27: =O190 -> 56.138104 | P27: =P190 -> 0 | Q27: =Q190 -> 15.368325
B28: A.B.2. | C28: Kintamosios paskirstomosios sąnaudos | D28: =O28+E28+I28+M28+P28+Q28 -> 567.11824 | E28: =SUM(F28:H28) -> 267.40146 | F28: =F30+F31+F35+F38+F39+F59+F60+F91+F94+F143 -> 196.45288 | G28: =G30+G31+G35+G38+G39+G59+G60+G91+G94+G143 -> 41.13696 | H28: =H30+H31+H35+H38+H39+H59+H60+H91+H94+H143 -> 29.81162 | I28: =SUM(J28:L28) -> 295.24896 | J28: =J30+J31+J35+J38+J39+J59+J60+J91+J94+J143 -> 64.88528 | K28: =K30+K31+K35+K38+K39+K59+K60+K91+K94+K143 -> 216.03905 | L28: =L30+L31+L35+L38+L39+L59+L60+L91+L94+L143 -> 14.32463 | M28: =M30+M31+M35+M38+M39+M59+M60+M91+M94+M143 -> 3.55311 | N28: =+O28+P28 -> 0 | O28: =O30+O31+O35+O38+O39+O59+O60+O91+O94+O143 -> 0 | P28: =P30+P31+P35+P38+P39+P59+P60+P91+P94+P143 -> 0 | Q28: =Q30+Q31+Q35+Q38+Q39+Q59+Q60+Q91+Q94+Q143 -> 0.91471
B29: B. | C29: TIESIOGINĖS SĄNAUDOS | D29: =O29+E29+I29+M29+P29+Q29 -> 1965.1707 | E29: =SUM(F29:H29) -> 721.2424 | F29: =F30+F31+F34+F37+F40+F43+F45+F51+F52+F58+F65+F68+F83+F84 -> 266.16677 | G29: =G30+G31+G34+G37+G40+G43+G45+G51+G52+G58+G65+G68+G83+G84 -> 128.76495 | H29: =H30+H31+H34+H37+H40+H43+H45+H51+H52+H58+H65+H68+H83+H84 -> 326.31068 | I29: =SUM(J29:L29) -> 978.60234 | J29: =J30+J31+J34+J37+J40+J43+J45+J51+J52+J58+J65+J68+J83+J84 -> 347.70405 | K29: =K30+K31+K34+K37+K40+K43+K45+K51+K52+K58+K65+K68+K83+K84 -> 547.27987 | L29: =L30+L31+L34+L37+L40+L43+L45+L51+L52+L58+L65+L68+L83+L84 -> 83.618425 | M29: =M30+M31+M34+M37+M40+M43+M45+M51+M52+M58+M65+M68+M83+M84 -> 79.616844 | N29: =+O29+P29 -> 145.12814 | O29: =O30+O31+O34+O37+O40+O43+O45+O51+O52+O58+O65+O68+O83+O84 -> 145.12814 | P29: =P30+P31+P34+P37+P40+P43+P45+P51+P52+P58+P65+P68+P83+P84 -> 0 | Q29: =Q30+Q31+Q34+Q37+Q40+Q43+Q45+Q51+Q52+Q58+Q65+Q68+Q83+Q84 -> 40.581023
B30: B.1. | C30: Geriamojo vandens įsigijimo sąnaudos | D30: =O30+E30+I30+M30+P30+Q30 -> 0 | E30: =SUM(F30:H30) -> 0 | F30: 0 | G30: 0 | H30: 0 | I30: =SUM(J30:L30) -> 0 | J30: 0 | K30: 0 | L30: 0 | M30: 0 | N30: =+O30+P30 -> 0 | O30: 0 | P30: 0 | Q30: 0
B31: B.2. | C31: Nuotekų tvarkymo paslaugų pirkimo sąnaudos | D31: =O31+E31+I31+M31+P31+Q31 -> 0 | E31: =SUM(E32:E33) -> 0 | F31: =SUM(F32:F33) -> 0 | G31: =SUM(G32:G33) -> 0 | H31: =SUM(H32:H33) -> 0 | I31: =SUM(J31:L31) -> 0 | J31: =SUM(J32:J33) -> 0 | K31: =SUM(K32:K33) -> 0 | L31: =SUM(L32:L33) -> 0 | M31: =SUM(M32:M33) -> 0 | N31: =+O31+P31 -> 0 | O31: =SUM(O32:O33) -> 0 | P31: =+SUM(P32:P33) -> 0 | Q31: =+SUM(Q32:Q33) -> 0
B32: B.2.1. | C32: Nuotekų tvarkymo paslaugų pirkimo sąnaudos | D32: =I32+M32+P32+Q32 -> 0 | E32: =+SUM(F32:H32) -> 0 | F32: 0 | G32: 0 | H32: 0 | I32: =SUM(J32:L32) -> 0 | J32: 0 | K32: 0 | L32: 0 | M32: 0 | N32: =+O32+P32 -> 0 | O32: 0 | P32: 0 | Q32: 0
B33: B.2.2. | C33: Dumblo tvarkymo paslaugų pirkimo sąnaudos | D33: =I33+M33+P33+Q33 -> 0 | E33: =+SUM(F33:H33) -> 0 | F33: 0 | G33: 0 | H33: 0 | I33: =SUM(J33:L33) -> 0 | J33: 0 | K33: 0 | L33: 0 | M33: 0 | N33: =+O33+P33 -> 0 | O33: 0 | P33: 0 | Q33: 0
B34: B.3. | C34: Elektros energijos sąnaudos | D34: =O34+E34+I34+M34+P34+Q34 -> 453.77185 | E34: =E35+E36 -> 153.20883 | F34: =F35+F36 -> 88.35267 | G34: =G35+G36 -> 31.35996 | H34: =H35+H36 -> 33.4962 | I34: =SUM(J34:L34) -> 299.08147 | J34: =SUM(J35:J36) -> 72.90481 | K34: =SUM(K35:K36) -> 215.82848 | L34: =SUM(L35:L36) -> 10.34818 | M34: =SUM(M35:M36) -> 0.20686 | N34: =+O34+P34 -> 0.35998 | O34: =O35+O36 -> 0.35998 | P34: =SUM(P35:P36) -> 0 | Q34: =SUM(Q35:Q36) -> 0.91471
B35: B.3.1. | C35: Elektros energija siurbliams, orapūtėms, maišyklėms ir kitiems technologiniams įrenginiams | D35: =O35+E35+I35+M35+P35+Q35 -> 403.63719 | E35: =SUM(F35:H35) -> 136.35586 | F35: 78.63388 | G35: 27.91036 | H35: 29.81162 | I35: =SUM(J35:L35) -> 266.18251 | J35: 64.88528 | K35: 192.08735 | L35: 9.20988 | M35: 0.18411 | N35: =+O35+P35 -> 0 | O35: 0 | P35: 0 | Q35: 0.91471
B36: B.3.2. | C36: Patalpų šildymo, apšvietimo, vėdinimo ir eksploatacijos elektros energijos sąnaudos | D36: =O36+E36+I36+M36+P36+Q36 -> 50.13466 | E36: =SUM(F36:H36) -> 16.85297 | F36: 9.71879 | G36: 3.4496 | H36: 3.68458 | I36: =SUM(J36:L36) -> 32.89896 | J36: 8.01953 | K36: 23.74113 | L36: 1.1383 | M36: 0.02275 | N36: =+O36+P36 -> 0.35998 | O36: 0.35998 | P36: 0 | Q36: 0
B37: B.4. | C37: Technologinių medžiagų ir technologinio kuro sąnaudos | D37: =O37+E37+I37+M37+P37+Q37 -> 20.53005 | E37: =SUM(F37:H37) -> 13.2266 | F37: =F38 -> 0 | G37: =G38 -> 13.2266 | H37: =H38 -> 0 | I37: =SUM(J37:L37) -> 7.30345 | J37: =SUM(J38:J39) -> 0 | K37: =SUM(K38:K39) -> 2.1887 | L37: =SUM(L38:L39) -> 5.11475 | M37: =SUM(M38:M39) -> 0 | N37: =+O37+P37 -> 0 | O37: =O38+O39 -> 0 | P37: =SUM(P38:P39) -> 0 | Q37: =SUM(Q38:Q39) -> 0
B38: B.4.1. | C38: Technologinių medžiagų sąnaudos | D38: =O38+E38+I38+M38+P38+Q38 -> 20.53005 | E38: =SUM(F38:H38) -> 13.2266 | F38: 0 | G38: 13.2266 | H38: 0 | I38: =SUM(J38:L38) -> 7.30345 | J38: 0 | K38: 2.1887 | L38: 5.11475 | M38: 0 | N38: =+O38+P38 -> 0 | O38: 0 | P38: 0 | Q38: 0
B39: B.4.2. | C39: Technologinio kuro sąnaudos | D39: =O39+E39+I39+M39+P39+Q39 -> 0 | E39: =SUM(F39:H39) -> 0 | F39: 0 | G39: 0 | H39: 0 | I39: =SUM(J39:L39) -> 0 | J39: 0 | K39: 0 | L39: 0 | M39: 0 | N39: =+O39+P39 -> 0 | O39: 0 | P39: 0 | Q39: 0
B40: B.5. | C40: Kuro transportui sąnaudos | D40: =O40+E40+I40+M40+P40+Q40 -> 46.28136 | E40: =SUM(F40:H40) -> 16.73319 | F40: =SUM(F41:F42) -> 2.01968 | G40: =SUM(G41:G42) -> 1.45331 | H40: =SUM(H41:H42) -> 13.2602 | I40: =SUM(J40:L40) -> 19.08369 | J40: =SUM(J41:J42) -> 5.86714 | K40: =SUM(K41:K42) -> 4.19553 | L40: =SUM(L41:L42) -> 9.02102 | M40: =SUM(M41:M42) -> 2.22424 | N40: =+O40+P40 -> 2.33135 | O40: =SUM(O41:O42) -> 2.33135 | P40: =SUM(P41:P42) -> 0 | Q40: =SUM(Q41:Q42) -> 5.90889
B41: B.5.1. | C41: Kuras mašinoms ir gamybiniam transportui (asenizacijos transporto priemonėms, transportui dumblui, vandeniui vežti, autobusams žmonėms vežti) | D41: =O41+E41+I41+M41+P41+Q41 -> 43.95001 | E41: =SUM(F41:H41) -> 16.73319 | F41: 2.01968 | G41: 1.45331 | H41: 13.2602 | I41: =SUM(J41:L41) -> 19.08369 | J41: 5.86714 | K41: 4.19553 | L41: 9.02102 | M41: 2.22424 | N41: =+O41+P41 -> 0 | O41: 0 | P41: 0 | Q41: 5.90889
B42: B.5.2. | C42: Kuras lengviesiems automobiliams | D42: =O42+E42+I42+M42+P42+Q42 -> 2.33135 | E42: =SUM(F42:H42) -> 0 | F42: 0 | G42: 0 | H42: 0 | I42: =SUM(J42:L42) -> 0 | J42: 0 | K42: 0 | L42: 0 | M42: 0 | N42: =+O42+P42 -> 2.33135 | O42: 2.33135 | P42: 0 | Q42: 0
B43: B.6. | C43: Šilumos energijos sąnaudos | D43: =O43+E43+I43+M43+P43+Q43 -> 2.25635 | E43: =SUM(F43:H43) -> 0 | F43: =F44 -> 0 | G43: =G44 -> 0 | H43: =H44 -> 0 | I43: =SUM(J43:L43) -> 2.25635 | J43: =J44 -> 0 | K43: =K44 -> 2.25635 | L43: =L44 -> 0 | M43: =M44 -> 0 | N43: =+O43+P43 -> 0 | O43: =O44 -> 0 | P43: =P44 -> 0 | Q43: =Q44 -> 0
B44: B.6.1. | C44: Šilumos energijos patalpų šildymui sąnaudos | D44: =O44+E44+I44+M44+P44+Q44 -> 2.25635 | E44: =SUM(F44:H44) -> 0 | F44: 0 | G44: 0 | H44: 0 | I44: =SUM(J44:L44) -> 2.25635 | J44: 0 | K44: 2.25635 | L44: 0 | M44: 0 | N44: =+O44+P44 -> 0 | O44: 0 | P44: 0 | Q44: 0
B45: B.7. | C45: Einamojo remonto ir aptarnavimo sąnaudos | D45: =O45+E45+I45+M45+P45+Q45 -> 140.27933 | E45: =SUM(F45:H45) -> 47.6735 | F45: =SUM(F46:F50) -> 3.04145 | G45: =SUM(G46:G50) -> 28.25421 | H45: =SUM(H46:H50) -> 16.37784 | I45: =SUM(J45:L45) -> 70.24224 | J45: =SUM(J46:J50) -> 41.83383 | K45: =SUM(K46:K50) -> 21.81599 | L45: =SUM(L46:L50) -> 6.59242 | M45: =SUM(M46:M50) -> 3.32717 | N45: =+O45+P45 -> 10.16052 | O45: =SUM(O46:O50) -> 10.16052 | P45: =SUM(P46:P50) -> 0 | Q45: =SUM(Q46:Q50) -> 8.8759
...

Sheet 5
E2: Geriamojo vandens tiekimo ir nuotekų tvarkymo bei paviršinių nuotekų tvarkymo paslaugų įmonių apskaitos atskyrimo taisyklių ir susijusių reikalavimų sąvado 5 priedas
C3: Ūkio subjektas: UAB „Kretingos vandenys“
C4: Ataskaitinis laikotarpis: 2025-01-01 - 2025-12-31
C6: Ataskaitinio laikotarpio reguliuojamos veiklos ilgalaikio turto įsigijimo ir likutinės vertės suvestinė ataskaita (tūkst. Eur)
B9: Eil. Nr. | C9: STRAIPSNIAI | D9: Ataskaitinis laikotarpis | E9: Paaiškinimai
B10: I. | C10: ILGALAIKIO TURTO LIKUTINĖ VERTĖ PAGAL FINANSINĖS APSKAITOS STANDARTUS (FAS) | D10: 35044.678
B11: A. | C11: GERIAMOJO VANDENS TIEKIMO IR NUOTEKŲ TVARKYMO (GVTNT) REGULIUOJAMO ILGALAIKIO TURTO LIKUTINĖ VERTĖ PAGAL REGULIAVIMO APSKAITOS SISTEMĄ (RAS) | D11: =SUM(D12:D13)+D17 -> 6892.3947 | E11: 7 priedas
B12: A.1. | C12: geriamojo vandens tiekimo (GVT) reguliuojamo ilgalaikio turto likutinė vertė (pagal RAS) | D12: ='7'!E10 -> 2917.5238 | E12: 7 priedas
B13: A.2. | C13: nuotekų tvarkymo (NT) veiklos reguliuojamo ilgalaikio turto likutinė vertė (pagal RAS) | D13: ='7'!I10 -> 3344.7298 | E13: 7 priedas
B14: A.2.1. | C14: nuotekų surinkimas centralizuotais nuotekų surinkimo tinklais reguliuojamo ilgalaikio turto likutinė vertė (pagal RAS) | D14: ='7'!J10 -> 2789.2409 | E14: 7 priedas
B15: A.2.2. | C15: nuotekų valymo reguliuojamo ilgalaikio turto likutinė vertė (pagal RAS) | D15: ='7'!K10 -> 545.82306 | E15: 7 priedas
B16: A.2.3. | C16: nuotekų dumblo tvarkymo reguliuojamo ilgalaikio turto likutinė vertė (pagal RAS) | D16: ='7'!L10 -> 9.6658436 | E16: 7 priedas
B17: A.3. | C17: paviršinių nuotekų tvarkymo reguliuojamo ilgalaikio turto likutinė vertė (pagal RAS),jei yra atskira paviršinių nuotekų surinkimo sistema | D17: ='7'!M10 -> 630.14101 | E17: 7 priedas
B18: B. | C18: GVTNT VEIKLOS REGULIUOJAMAM ILGALAIKIUI TURTUI (PAGAL RAS) NEPRISKIRTINO TURTO LIKUTINĖS VERTĖS | D18: =SUM(D19:D28) -> 28127.589
B19: B.1. | C19: už Dotacijas įsigyto ir neatlygintai gauto turto vertė (GVTNT) | D19: 23754.762
B20: B.2. | C20: Plėtros darbų vertė, iki ilgalaikio turto vienetų, kurių formavimui buvo atliekami plėtros darbai, eksploatacijos pradžios (GVTNT) | D20: 0
B21: B.3. | C21: Prestižo vertė (GVTNT) | D21: 0
B22: B.4. | C22: Investicinio turto vertė (GVTNT) | D22: 0
B23: B.5. | C23: Finansinio turto vertė (GVTNT) | D23: 0
B24: B.6. | C24: Atidėtojo mokesčio turto vertė (GVTNT) | D24: 34.871
B25: B.7. | C25: Ilgalaikio turto vertės pokytis, susijęs su ilgalaikio turto perkainojimo veikla (GVTNT) | D25: 456.09381
B26: B.8. | C26: Nebaigtos statybos, nenaudojamo, nusidėvėjusio turto vertė (GVTNT) | D26: 571.349
B27: B.9. | C27: Kito reguliuojamos veiklos nepaskirstomojo ilgalaikio turto vertė, kito nereguliuojamos veiklos ilgalaikio turto vertė | D27: 3465.1542
B28: B.10. | C28: GVTNT Ilgalaikio turto balansinių verčių pagal RAS ir FAS skirtumas | D28: =D10-D11-D29-D19-D20-D21-D22-D23-D24-D25-D26-D27 -> -154.6407
B29: C. | C29: KITŲ VEIKLŲ ILGALAIKIO TURTO LIKUTINĖ VERTĖ | D29: =SUM(D30:D32) -> 24.694328 | E29: 7 priedas
B30: C.1. | C30: Apskaitos veiklos reguliuojamo ilgalaikio turto likutinė vertė | D30: ='7'!O10 -> 14.91213 | E30: 7 priedas
B31: C.2. | C31: kitos reguliuojamosios veiklos ilgalaikio turto likutinė vertė | D31: ='7'!P10 -> 0 | E31: 7 priedas
B32: C.3. | C32: nereguliuojamosios veiklos ilgalaikio turto likutinė vertė | D32: ='7'!Q10 -> 9.7821984 | E32: 7 priedas
B33: II. | C33: ILGALAIKIO TURTO ĮSIGIJIMO VERTĖ PAGAL FINANSINĖS APSKAITOS STANDARTUS (FAS) | D33: 54258.412
B34: D. | C34: GERIAMOJO VANDENS TIEKIMO IR NUOTEKŲ TVARKYMO (GVTNT) REGULIUOJAMO ILGALAIKIO TURTO ĮSIGIJIMO VERTĖ PAGAL REGULIAVIMO APSKAITOS SISTEMĄ (RAS) | D34: =SUM(D35:D36)+D40 -> 9953.77 | E34: 6 priedas
B35: D.1. | C35: geriamojo vandens tiekimo (GVT) reguliuojamo ilgalaikio turto įsigijimo vertė (pagal RAS) | D35: ='6'!E10 -> 4162.8884 | E35: 6 priedas
B36: D.2. | C36: nuotekų tvarkymo (NT) veiklos reguliuojamo ilgalaikio turto įsigijimo vertė (pagal RAS) | D36: ='6'!I10 -> 4791.229 | E36: 6 priedas
B37: D.2.1. | C37: nuotekų surinkimas centralizuotais nuotekų surinkimo tinklais reguliuojamo ilgalaikio turto įsigijimo vertė (pagal RAS) | D37: ='6'!J10 -> 3857.9406 | E37: 6 priedas
B38: D.2.2. | C38: nuotekų valymo reguliuojamo ilgalaikio turto įsigijimo vertė (pagal RAS) | D38: ='6'!K10 -> 916.25715 | E38: 6 priedas
B39: D.2.3. | C39: nuotekų dumblo tvarkymo reguliuojamo ilgalaikio turto įsigijimo vertė (pagal RAS) | D39: ='6'!L10 -> 17.031224 | E39: 6 priedas
B40: D.3. | C40: paviršinių nuotekų tvarkymo reguliuojamo ilgalaikio turto įsigijimo vertė (pagal RAS), jei yra atskira paviršinių nuotekų surinkimo sistema | D40: ='6'!M10 -> 999.65265 | E40: 6 priedas
B41: E. | C41: GVTNT VEIKLOS REGULIUOJAMAM ILGALAIKIUI TURTUI (PAGAL RAS) NEPRISKIRTINO TURTO ĮSIGIJIMO VERTĖS | D41: =SUM(D42:D51) -> 44245.55
B42: E.1. | C42: už Dotacijas įsigyto ir neatlygintai gauto turto vertė (GVTNT) | D42: 38282.801
B43: E.2. | C43: Plėtros darbų vertė, iki ilgalaikio turto vienetų, kurių formavimui buvo atliekami plėtros darbai, eksploatacijos pradžios (GVTNT) | D43: 0
B44: E.3. | C44: Prestižo vertė (GVTNT) | D44: 0
...

Sheet 6
C2: Ūkio subjektas: UAB „Kretingos vandenys“ | Q2: Geriamojo vandens tiekimo ir nuotekų tvarkymo bei paviršinių nuotekų tvarkymo paslaugų įmonių apskaitos atskyrimo taisyklių ir susijusių reikalavimų sąvado 6 priedas
C3: Ataskaitinis laikotarpis: 2025-01-01 - 2025-12-31
C5: Ataskaitinio laikotarpio reguliuojamo ilgalaikio turto įsigijimo vertės (suskaičiuotos pagal Sąvado nuostatas) paskirstymo verslo vienetams ir paslaugoms ataskaita (tūkst. Eur)
F8: II.Gavyba | G8: II.Ruošimas | H8: II.Pristatymas | J8: III.Surinkimas | K8: III.Valymas | L8: III.Dumblas | M8: III.Pav.nuotekos | O8: I.Apskaitos veikla | P8: IV.Kita_reguliuojama | Q8: V.Nereguliuojama
B9: Eil. Nr. | C9: ILGALAIKIS TURTAS | D9: 1. IŠ VISO | E9: 2. Iš viso GVT | F9: 2.1. Geriamojo vandens gavyba | G9: 2.2. Geriamojo vandens ruošimas | H9: 2.3. Geriamojo vandens pristatymas | I9: 3. Iš viso NT | J9: 3.1. Nuotekų surinkimas | K9: 3.2. Nuotekų valymas | L9: 3.3. Nuotekų dumblo tvarkymas | M9: 4. Paviršinių nuotekų tvarkymas (tik esant atskirai paviršinių nuotekų tvarkymo sistemai) | N9: 5. Kitos reguliuojamosios veiklos verslo vienetas | O9: 5.1. Apskaitos veikla | P9: 5.2. Kita reguliuojama veikla | Q9: 6. Kitos veiklos (nereguliuojamosios veiklos) verslo vienetas
B10: A. | C10: PASKIRSTOMAS ILGALAIKIS TURTAS | D10: =D11+D15+D22+D25+D31+D34 -> 10012.862 | E10: =E11+E15+E22+E25+E31+E34 -> 4162.8884 | F10: =F11+F15+F22+F25+F31+F34 -> 229.64774 | G10: =G11+G15+G22+G25+G31+G34 -> 385.66953 | H10: =H11+H15+H22+H25+H31+H34 -> 3547.5711 | I10: =I11+I15+I22+I25+I31+I34 -> 4791.229 | J10: =J11+J15+J22+J25+J31+J34 -> 3857.9406 | K10: =K11+K15+K22+K25+K31+K34 -> 916.25715 | ... M10: =M11+M15+M22+M25+M31+M34 -> 999.65265 | N10: =+O10+P10 -> 27.16033 | O10: =O11+O15+O22+O25+O31+O34 -> 27.16033 | P10: =P11+P15+P22+P25+P31+P34 -> 0 | Q10: =Q11+Q15+Q22+Q25+Q31+Q34 -> 31.931554
B11: A.1. | C11: NEMATERIALUSIS TURTAS | D11: =O11+E11+I11+M11+P11+Q11 -> 11.97901 | E11: =SUM(F11:H11) -> 5.1988234 | F11: =SUM(F12:F14) -> 2.9400286 | G11: =SUM(G12:G14) -> 0.43322435 | H11: =SUM(H12:H14) -> 1.8255704 | I11: =SUM(J11:L11) -> 4.2145796 | J11: =SUM(J12:J14) -> 3.117803 | K11: =SUM(K12:K14) -> 1.009283 | L11: =SUM(L12:L14) -> 0.087493573 | M11: =SUM(M12:M14) -> 0.18768451 | N11: =+O11+P11 -> 2.3741048 | O11: =SUM(O12:O14) -> 2.3741048 | P11: =SUM(P12:P14) -> 0 | Q11: =SUM(Q12:Q14) -> 0.0038177266
B12: A.1.1. | C12: standartinė programinė įranga | D12: =O12+E12+I12+M12+P12+Q12 -> 11.97901 | E12: =SUM(F12:H12) -> 5.1988234 | F12: =SUM(F40,F68,F118) -> 2.9400286 | G12: =SUM(G40,G68,G118) -> 0.43322435 | H12: =SUM(H40,H68,H118) -> 1.8255704 | I12: =SUM(J12:L12) -> 4.2145796 | J12: =SUM(J40,J68,J118) -> 3.117803 | K12: =SUM(K40,K68,K118) -> 1.009283 | L12: =SUM(L40,L68,L118) -> 0.087493573 | M12: =SUM(M40,M68,M118) -> 0.18768451 | N12: =+O12+P12 -> 2.3741048 | O12: =SUM(O40,O68,O118) -> 2.3741048 | P12: =SUM(P40,P68,P118) -> 0 | Q12: =SUM(Q40,Q68,Q118) -> 0.0038177266
B13: A.1.2. | C13: spec. programinė įranga | D13: =O13+E13+I13+M13+P13+Q13 -> 0 | E13: =SUM(F13:H13) -> 0 | F13: =SUM(F41,F69,F119) -> 0 | G13: =SUM(G41,G69,G119) -> 0 | H13: =SUM(H41,H69,H119) -> 0 | I13: =SUM(J13:L13) -> 0 | J13: =SUM(J41,J69,J119) -> 0 | K13: =SUM(K41,K69,K119) -> 0 | L13: =SUM(L41,L69,L119) -> 0 | M13: =SUM(M41,M69,M119) -> 0 | N13: =+O13+P13 -> 0 | O13: =SUM(O41,O69,O119) -> 0 | P13: =SUM(P41,P69,P119) -> 0 | Q13: =SUM(Q41,Q69,Q119) -> 0
B14: A.1.3. | C14: kitas nematerialus turtas | D14: =O14+E14+I14+M14+P14+Q14 -> 0 | E14: =SUM(F14:H14) -> 0 | F14: =SUM(F42,F70,F120) -> 0 | G14: =SUM(G42,G70,G120) -> 0 | H14: =SUM(H42,H70,H120) -> 0 | I14: =SUM(J14:L14) -> 0 | J14: =SUM(J42,J70,J120) -> 0 | K14: =SUM(K42,K70,K120) -> 0 | L14: =SUM(L42,L70,L120) -> 0 | M14: =SUM(M42,M70,M120) -> 0 | N14: =+O14+P14 -> 0 | O14: =SUM(O42,O70,O120) -> 0 | P14: =SUM(P42,P70,P120) -> 0 | Q14: =SUM(Q42,Q70,Q120) -> 0
B15: A.2. | C15: PASTATAI IR STATINIAI | D15: =O15+E15+I15+M15+P15+Q15 -> 9329.0939 | E15: =SUM(F15:H15) -> 3912.1048 | F15: =SUM(F16:F21) -> 203.99592 | G15: =SUM(G16:G21) -> 262.79473 | H15: =SUM(H16:H21) -> 3445.3141 | I15: =SUM(J15:L15) -> 4421.073 | J15: =SUM(J16:J21) -> 3649.4666 | K15: =SUM(K16:K21) -> 759.76448 | L15: =SUM(L16:L21) -> 11.841932 | M15: =SUM(M16:M21) -> 990.52371 | N15: =+O15+P15 -> 4.2193531 | O15: =SUM(O16:O21) -> 4.2193531 | P15: =SUM(P16:P21) -> 0 | Q15: =SUM(Q16:Q21) -> 1.173054
B16: A.2.1. | C16: Pastatai (administraciniai, gamybiniai-ūkiniai ir pan.) | D16: =O16+E16+I16+M16+P16+Q16 -> 574.55093 | E16: =SUM(F16:H16) -> 210.35434 | F16: =SUM(F44,F72,F122) -> 18.162517 | G16: =SUM(G44,G72,G122) -> 156.23753 | H16: =SUM(H44,H72,H122) -> 35.954291 | I16: =SUM(J16:L16) -> 353.85524 | J16: =SUM(J44,J72,J122) -> 65.099592 | K16: =SUM(K44,K72,K122) -> 281.72775 | L16: =SUM(L44,L72,L122) -> 7.027898 | M16: =SUM(M44,M72,M122) -> 4.970786 | N16: =+O16+P16 -> 4.2037038 | O16: =SUM(O44,O72,O122) -> 4.2037038 | P16: =SUM(P44,P72,P122) -> 0 | Q16: =SUM(Q44,Q72,Q122) -> 1.1668595
B17: A.2.2. | C17: keliai, aikštelės, šaligatviai ir tvoros | D17: =O17+E17+I17+M17+P17+Q17 -> 62.12542 | E17: =SUM(F17:H17) -> 36.1159 | F17: =SUM(F45,F73,F123) -> 16.580016 | G17: =SUM(G45,G73,G123) -> 18.103935 | H17: =SUM(H45,H73,H123) -> 1.43195 | I17: =SUM(J17:L17) -> 25.851743 | J17: =SUM(J45,J73,J123) -> 8.7223879 | K17: =SUM(K45,K73,K123) -> 17.060726 | L17: =SUM(L45,L73,L123) -> 0.068628647 | M17: =SUM(M45,M73,M123) -> 0.14721691 | N17: =+O17+P17 -> 0.0075652036 | O17: =SUM(O45,O73,O123) -> 0.0075652036 | P17: =SUM(P45,P73,P123) -> 0 | Q17: =SUM(Q45,Q73,Q123) -> 0.0029945675
B18: A.2.3. | C18: geriamojo vandens tiekimo ir nuotekų surinkimo vamzdynai | D18: =O18+E18+I18+M18+P18+Q18 -> 7723.5289 | E18: =SUM(F18:H18) -> 3403.3483 | F18: =SUM(F46,F74,F124) -> 0 | G18: =SUM(G46,G74,G124) -> 0 | H18: =SUM(H46,H74,H124) -> 3403.3483 | I18: =SUM(J18:L18) -> 3334.9322 | J18: =SUM(J46,J74,J124) -> 3334.9322 | K18: =SUM(K46,K74,K124) -> 0 | L18: =SUM(L46,L74,L124) -> 0 | M18: =SUM(M46,M74,M124) -> 985.24839 | N18: =+O18+P18 -> 0 | O18: =SUM(O46,O74,O124) -> 0 | P18: =SUM(P46,P74,P124) -> 0 | Q18: =SUM(Q46,Q74,Q124) -> 0
B19: A.2.4. | C19: šilumos ir karšto vandens tiekimo vamzdynai | D19: =O19+E19+I19+M19+P19+Q19 -> 0 | E19: =SUM(F19:H19) -> 0 | F19: =SUM(F47,F75,F125) -> 0 | G19: =SUM(G47,G75,G125) -> 0 | H19: =SUM(H47,H75,H125) -> 0 | I19: =SUM(J19:L19) -> 0 | J19: =SUM(J47,J75,J125) -> 0 | K19: =SUM(K47,K75,K125) -> 0 | L19: =SUM(L47,L75,L125) -> 0 | M19: =SUM(M47,M75,M125) -> 0 | N19: =+O19+P19 -> 0 | O19: =SUM(O47,O75,O125) -> 0 | P19: =SUM(P47,P75,P125) -> 0 | Q19: =SUM(Q47,Q75,Q125) -> 0
B20: A.2.5. | C20: saulės šviesos elektrinės | D20: =O20+E20+I20+M20+P20+Q20 -> 0 | E20: =SUM(F20:H20) -> 0 | F20: =SUM(F48,F76,F126) -> 0 | G20: =SUM(G48,G76,G126) -> 0 | H20: =SUM(H48,H76,H126) -> 0 | I20: =SUM(J20:L20) -> 0 | J20: =SUM(J48,J76,J126) -> 0 | K20: =SUM(K48,K76,K126) -> 0 | L20: =SUM(L48,L76,L126) -> 0 | M20: =SUM(M48,M76,M126) -> 0 | N20: =+O20+P20 -> 0 | O20: =SUM(O48,O76,O126) -> 0 | P20: =SUM(P48,P76,P126) -> 0 | Q20: =SUM(Q48,Q76,Q126) -> 0
B21: A.2.6. | C21: Kiti įrenginiai (vandentiekio įrenginiai, nusodintuvai, diukeriai, vandens rezervuarai, gelžbetoniniai metantankai, smėlio gaudytuvai, aerotankai, nusodintuvai, nuotekų valymo flotatoriai, dumblo aikštelės ir kt.) | D21: =O21+E21+I21+M21+P21+Q21 -> 968.88864 | E21: =SUM(F21:H21) -> 262.28619 | F21: =SUM(F49,F77,F127) -> 169.25339 | G21: =SUM(G49,G77,G127) -> 88.453269 | H21: =SUM(H49,H77,H127) -> 4.5795335 | I21: =SUM(J21:L21) -> 706.43385 | J21: =SUM(J49,J77,J127) -> 240.71244 | K21: =SUM(K49,K77,K127) -> 460.976 | L21: =SUM(L49,L77,L127) -> 4.7454052 | M21: =SUM(M49,M77,M127) -> 0.15731309 | N21: =+O21+P21 -> 0.0080840271 | O21: =SUM(O49,O77,O127) -> 0.0080840271 | P21: =SUM(P49,P77,P127) -> 0 | Q21: =SUM(Q49,Q77,Q127) -> 0.0031999357
B22: A.3. | C22: MAŠINOS IR ĮRANGA | D22: =O22+E22+I22+M22+P22+Q22 -> 361.81751 | E22: =SUM(F22:H22) -> 148.41143 | F22: =SUM(F23:F24) -> 13.527235 | G22: =SUM(G23:G24) -> 105.21756 | H22: =SUM(H23:H24) -> 29.666643 | I22: =SUM(J22:L22) -> 180.88434 | J22: =SUM(J23:J24) -> 105.28676 | K22: =SUM(K23:K24) -> 74.407228 | L22: =SUM(L23:L24) -> 1.1903554 | M22: =SUM(M23:M24) -> 2.204333 | N22: =+O22+P22 -> 0.79257342 | O22: =SUM(O23:O24) -> 0.79257342 | P22: =SUM(P23:P24) -> 0 | Q22: =SUM(Q23:Q24) -> 29.52483
B23: A.3.1. | C23: vandens siurbliai, nuotekų ir dumblo siurbliai virš 5 kW, kita įranga ( siurblių valdymo įranga, elektrotechninė įranga, stacionarios ir mobilios darbo bei hidrodinaminės mašinos, staklės, sklendės, grotelės, grėbliai, grandikliai, filtrai, centrifugos) | D23: =O23+E23+I23+M23+P23+Q23 -> 357.17344 | E23: =SUM(F23:H23) -> 148.41143 | F23: =SUM(F51,F79,F129) -> 13.527235 | G23: =SUM(G51,G79,G129) -> 105.21756 | H23: =SUM(H51,H79,H129) -> 29.666643 | I23: =SUM(J23:L23) -> 176.24027 | J23: =SUM(J51,J79,J129) -> 100.64269 | K23: =SUM(K51,K79,K129) -> 74.407228 | L23: =SUM(L51,L79,L129) -> 1.1903554 | M23: =SUM(M51,M79,M129) -> 2.204333 | N23: =+O23+P23 -> 0.79257342 | O23: =SUM(O51,O79,O129) -> 0.79257342 | P23: =SUM(P51,P79,P129) -> 0 | Q23: =SUM(Q51,Q79,Q129) -> 29.52483
B24: A.3.2. | C24: nuotekų ir dumblo siurbliai iki 5 kW | D24: =O24+E24+I24+M24+P24+Q24 -> 4.64407 | E24: =SUM(F24:H24) -> 0 | F24: =SUM(F52,F80) -> 0 | G24: =SUM(G52,G80) -> 0 | H24: =SUM(H52,H80) -> 0 | I24: =SUM(J24:L24) -> 4.64407 | J24: =SUM(J52,J80) -> 4.64407 | K24: =SUM(K52,K80) -> 0 | L24: =SUM(L52,L80) -> 0 | M24: =SUM(M52,M80) -> 0 | N24: =+O24+P24 -> 0 | O24: =SUM(O52,O80) -> 0 | P24: =SUM(P52,P80) -> 0 | Q24: =SUM(Q52,Q80) -> 0
B25: A.4. | C25: KITI ĮRENGINIAI, PRIETAISAI IR ĮRANKIAI | D25: =O25+E25+I25+M25+P25+Q25 -> 150.93714 | E25: =SUM(F25:H25) -> 42.438047 | F25: =SUM(F26:F30) -> 6.0900166 | G25: =SUM(G26:G30) -> 7.2022089 | H25: =SUM(H26:H30) -> 29.145822 | I25: =SUM(J25:L25) -> 88.983647 | J25: =SUM(J26:J30) -> 30.870963 | K25: =SUM(K26:K30) -> 56.65926 | L25: =SUM(L26:L30) -> 1.4534237 | M25: =SUM(M26:M30) -> 2.0747055 | N25: =+O25+P25 -> 16.850719 | O25: =SUM(O26:O30) -> 16.850719 | P25: =SUM(P26:P30) -> 0 | Q25: =SUM(Q26:Q30) -> 0.59002209
B26: A.4.1. | C26: geriamojo vandens apskaitos prietaisai | D26: =O26+E26+I26+M26+P26+Q26 -> 13.79584 | E26: =SUM(F26:H26) -> 0 | F26: =SUM(F54,F82,F131) -> 0 | G26: =SUM(G54,G82,G131) -> 0 | H26: =SUM(H54,H82,H131) -> 0 | I26: =SUM(J26:L26) -> 0 | J26: =SUM(J54,J82,J131) -> 0 | K26: =SUM(K54,K82,K131) -> 0 | L26: =SUM(L54,L82,L131) -> 0 | M26: =SUM(M54,M82,M131) -> 0 | N26: =+O26+P26 -> 13.79584 | O26: =SUM(O54,O82,O131) -> 13.79584 | P26: =SUM(P54,P82,P131) -> 0 | Q26: =SUM(Q54,Q82,Q131) -> 0
B27: A.4.2. | C27: atsiskaitomieji karšto vandens apskaitos prietaisai | D27: =O27+E27+I27+M27+P27+Q27 -> 0 | E27: =SUM(F27:H27) -> 0 | F27: =SUM(F55,F83,F132) -> 0 | G27: =SUM(G55,G83,G132) -> 0 | H27: =SUM(H55,H83,H132) -> 0 | I27: =SUM(J27:L27) -> 0 | J27: =SUM(J55,J83,J132) -> 0 | K27: =SUM(K55,K83,K132) -> 0 | L27: =SUM(L55,L83,L132) -> 0 | M27: =SUM(M55,M83,M132) -> 0 | N27: =+O27+P27 -> 0 | O27: =SUM(O55,O83,O132) -> 0 | P27: =SUM(P55,P83,P132) -> 0 | Q27: =SUM(Q55,Q83,Q132) -> 0
B28: A.4.3. | C28: šilumos (atsiskaitomieji ir neatsiskaitomieji) apskaitos prietaisai | D28: =O28+E28+I28+M28+P28+Q28 -> 0 | E28: =SUM(F28:H28) -> 0 | F28: =SUM(F56,F84,F133) -> 0 | G28: =SUM(G56,G84,G133) -> 0 | H28: =SUM(H56,H84,H133) -> 0 | I28: =SUM(J28:L28) -> 0 | J28: =SUM(J56,J84,J133) -> 0 | K28: =SUM(K56,K84,K133) -> 0 | L28: =SUM(L56,L84,L133) -> 0 | M28: =SUM(M56,M84,M133) -> 0 | N28: =+O28+P28 -> 0 | O28: =SUM(O56,O84,O133) -> 0 | P28: =SUM(P56,P84,P133) -> 0 | Q28: =SUM(Q56,Q84,Q133) -> 0
B29: A.4.4. | C29: kiti geriamojo vandens ir nuotekų apskaitos prietaisai (įrengti gręžiniuose, įrenginiuose ir.t.t) | D29: =O29+E29+I29+M29+P29+Q29 -> 0 | E29: =SUM(F29:H29) -> 0 | F29: =SUM(F57,F85,F134) -> 0 | G29: =SUM(G57,G85,G134) -> 0 | H29: =SUM(H57,H85,H134) -> 0 | I29: =SUM(J29:L29) -> 0 | J29: =SUM(J57,J85,J134) -> 0 | K29: =SUM(K57,K85,K134) -> 0 | L29: =SUM(L57,L85,L134) -> 0 | M29: =SUM(M57,M85,M134) -> 0 | N29: =+O29+P29 -> 0 | O29: =SUM(O57,O85,O134) -> 0 | P29: =SUM(P57,P85,P134) -> 0 | Q29: =SUM(Q57,Q85,Q134) -> 0
B30: A.4.5. | C30: įrankiai (matavimo priemonės, elektriniai įrankiai ir prietaisai, gamybinis inventorius ir kt.) | D30: =O30+E30+I30+M30+P30+Q30 -> 137.1413 | E30: =SUM(F30:H30) -> 42.438047 | F30: =SUM(F58,F86,F135) -> 6.0900166 | G30: =SUM(G58,G86,G135) -> 7.2022089 | H30: =SUM(H58,H86,H135) -> 29.145822 | I30: =SUM(J30:L30) -> 88.983647 | J30: =SUM(J58,J86,J135) -> 30.870963 | K30: =SUM(K58,K86,K135) -> 56.65926 | L30: =SUM(L58,L86,L135) -> 1.4534237 | M30: =SUM(M58,M86,M135) -> 2.0747055 | N30: =+O30+P30 -> 3.0548785 | O30: =SUM(O58,O86,O135) -> 3.0548785 | P30: =SUM(P58,P86,P135) -> 0 | Q30: =SUM(Q58,Q86,Q135) -> 0.59002209
B31: A.5. | C31: TRANSPORTO PRIEMONĖS | D31: =O31+E31+I31+M31+P31+Q31 -> 137.48702 | E31: =SUM(F31:H31) -> 48.095777 | F31: =SUM(F32:F33) -> 2.3691086 | G31: =SUM(G32:G33) -> 8.7701225 | H31: =SUM(H32:H33) -> 36.956546 | I31: =SUM(J31:L31) -> 85.319256 | J31: =SUM(J32:J33) -> 63.116291 | K31: =SUM(K32:K33) -> 20.43176 | L31: =SUM(L32:L33) -> 1.7712055 | M31: =SUM(M32:M33) -> 3.7994543 | N31: =+O31+P31 -> 0.19524689 | O31: =SUM(O32:O33) -> 0.19524689 | P31: =SUM(P32:P33) -> 0 | Q31: =SUM(Q32:Q33) -> 0.077285429
B32: A.5.1. | C32: lengvieji automobiliai | D32: =O32+E32+I32+M32+P32+Q32 -> 82.562 | E32: =SUM(F32:H32) -> 28.881879 | F32: =SUM(F60,F88,F137) -> 1.4226677 | G32: =SUM(G60,G88,G137) -> 5.2665252 | H32: =SUM(H60,H88,H137) -> 22.192687 | I32: =SUM(J32:L32) -> 51.234862 | J32: =SUM(J60,J88,J137) -> 37.901812 | K32: =SUM(K60,K88,K137) -> 12.269427 | L32: =SUM(L60,L88,L137) -> 1.0636224 | M32: =SUM(M60,M88,M137) -> 2.2816012 | N32: =+O32+P32 -> 0.11724724 | O32: =SUM(O60,O88,O137) -> 0.11724724 | P32: =SUM(P60,P88,P137) -> 0 | Q32: =SUM(Q60,Q88,Q137) -> 0.046410487
B33: A.5.2. | C33: kitos transporto priemonės (transportas dumblui, vandeniui vežti, autobusai žmonėms vežti) | D33: =O33+E33+I33+M33+P33+Q33 -> 54.92502 | E33: =SUM(F33:H33) -> 19.213898 | F33: =SUM(F61,F89,F138) -> 0.9464409 | G33: =SUM(G61,G89,G138) -> 3.5035973 | H33: =SUM(H61,H89,H138) -> 14.763859 | I33: =SUM(J33:L33) -> 34.084395 | J33: =SUM(J61,J89,J138) -> 25.214479 | K33: =SUM(K61,K89,K138) -> 8.1623328 | L33: =SUM(L61,L89,L138) -> 0.70758314 | M33: =SUM(M61,M89,M138) -> 1.5178531 | N33: =+O33+P33 -> 0.077999651 | O33: =SUM(O61,O89,O138) -> 0.077999651 | P33: =SUM(P61,P89,P138) -> 0 | Q33: =SUM(Q61,Q89,Q138) -> 0.030874942
B34: A.6. | C34: KITAS ILGALAIKIS TURTAS | D34: =O34+E34+I34+M34+P34+Q34 -> 21.54733 | E34: =SUM(F34:H34) -> 6.6395402 | F34: =SUM(F35:F37) -> 0.72542815 | G34: =SUM(G35:G37) -> 1.2516787 | H34: =SUM(H35:H37) -> 4.6624333 | I34: =SUM(J34:L34) -> 10.754148 | J34: =SUM(J35:J37) -> 6.0821922 | K34: =SUM(K35:K37) -> 3.9851414 | L34: =SUM(L35:L37) -> 0.68681436 | M34: =SUM(M35:M37) -> 0.86276343 | N34: =+O34+P34 -> 2.7283336 | O34: =SUM(O35:O37) -> 2.7283336 | P34: =SUM(P35:P37) -> 0 | Q34: =SUM(Q35:Q37) -> 0.56254482
B35: A.6.1. | C35: žemė | D35: =O35+E35+I35+M35+P35+Q35 -> 0 | E35: =SUM(F35:H35) -> 0 | F35: =SUM(F63,F91,F140) -> 0 | G35: =SUM(G63,G91,G140) -> 0 | H35: =SUM(H63,H91,H140) -> 0 | I35: =SUM(J35:L35) -> 0 | J35: =SUM(J63,J91,J140) -> 0 | K35: =SUM(K63,K91,K140) -> 0 | L35: =SUM(L63,L91,L140) -> 0 | M35: =SUM(M63,M91,M140) -> 0 | N35: =+O35+P35 -> 0 | O35: =SUM(O63,O91,O140) -> 0 | P35: =SUM(P63,P91,P140) -> 0 | Q35: =SUM(Q63,Q91,Q140) -> 0
B36: A.6.2. | C36: Kompiuteriai, kompiuteriniai tinklai ir jų įranga | D36: =O36+E36+I36+M36+P36+Q36 -> 21.54733 | E36: =SUM(F36:H36) -> 6.6395402 | F36: =SUM(F64,F92,F141) -> 0.72542815 | G36: =SUM(G64,G92,G141) -> 1.2516787 | H36: =SUM(H64,H92,H141) -> 4.6624333 | I36: =SUM(J36:L36) -> 10.754148 | J36: =SUM(J64,J92,J141) -> 6.0821922 | K36: =SUM(K64,K92,K141) -> 3.9851414 | L36: =SUM(L64,L92,L141) -> 0.68681436 | M36: =SUM(M64,M92,M141) -> 0.86276343 | N36: =+O36+P36 -> 2.7283336 | O36: =SUM(O64,O92,O141) -> 2.7283336 | P36: =SUM(P64,P92,P141) -> 0 | Q36: =SUM(Q64,Q92,Q141) -> 0.56254482
B37: A.6.3. | C37: (įrašyti) | D37: =O37+E37+I37+M37+P37+Q37 -> 0 | E37: =SUM(F37:H37) -> 0 | F37: =SUM(F65,F93,F142) -> 0 | G37: =SUM(G65,G93,G142) -> 0 | H37: =SUM(H65,H93,H142) -> 0 | I37: =SUM(J37:L37) -> 0 | J37: =SUM(J65,J93,J142) -> 0 | K37: =SUM(K65,K93,K142) -> 0 | L37: =SUM(L65,L93,L142) -> 0 | M37: =SUM(M65,M93,M142) -> 0 | N37: =+O37+P37 -> 0 | O37: =SUM(O65,O93,O142) -> 0 | P37: =SUM(P65,P93,P142) -> 0 | Q37: =SUM(Q65,Q93,Q142) -> 0
B38: B. | C38: TIESIOGIAI PASKIRSTOMAS ILGALAIKIS TURTAS | D38: =O38+E38+I38+M38+P38+Q38 -> 9566.8684 | E38: =E39+E43+E50+E53+E59+E62 -> 4008.8276 | F38: =F39+F43+F50+F53+F59+F62 -> 219.42814 | G38: =G39+G43+G50+G53+G59+G62 -> 357.30638 | H38: =H39+H43+H50+H53+H59+H62 -> 3432.0931 | I38: =I39+I43+I50+I53+I59+I62 -> 4524.6963 | J38: =J39+J43+J50+J53+J59+J62 -> 3673.1403 | K38: =K39+K43+K50+K53+K59+K62 -> 843.11922 | L38: =L39+L43+L50+L53+L59+L62 -> 8.43675 | M38: =M39+M43+M50+M53+M59+M62 -> 985.24839 | N38: =+O38+P38 -> 18.57513 | O38: =O39+O43+O50+O53+O59+O62 -> 18.57513 | P38: =P39+P43+P50+P53+P59+P62 -> 0 | Q38: =Q39+Q43+Q50+Q53+Q59+Q62 -> 29.52097
B39: B.1. | C39: NEMATERIALUSIS TURTAS | D39: =O39+E39+I39+M39+P39+Q39 -> 5.18746 | E39: =SUM(F39:H39) -> 2.823 | F39: =SUM(F40:F42) -> 2.823 | G39: =SUM(G40:G42) -> 0 | H39: =SUM(H40:H42) -> 0 | I39: =SUM(J39:L39) -> 0 | J39: =SUM(J40:J42) -> 0 | K39: =SUM(K40:K42) -> 0 | L39: =SUM(L40:L42) -> 0 | M39: =SUM(M40:M42) -> 0 | N39: =+O39+P39 -> 2.36446 | O39: =SUM(O40:O42) -> 2.36446 | P39: =SUM(P40:P42) -> 0 | Q39: =SUM(Q40:Q42) -> 0
B40: B.1.1. | C40: standartinė programinė įranga | D40: =O40+E40+I40+M40+P40+Q40 -> 5.18746 | E40: =SUM(F40:H40) -> 2.823 | F40: 2.823 | G40: 0 | H40: 0 | I40: =SUM(J40:L40) -> 0 | J40: 0 | K40: 0 | L40: 0 | M40: 0 | N40: =+O40+P40 -> 2.36446 | O40: 2.36446 | P40: 0 | Q40: 0 | R40: I.1.standartinė programinė įranga
B41: B.1.2. | C41: spec. programinė įranga | D41: =O41+E41+I41+M41+P41+Q41 -> 0 | E41: =SUM(F41:H41) -> 0 | F41: 0 | G41: 0 | H41: 0 | I41: =SUM(J41:L41) -> 0 | J41: 0 | K41: 0 | L41: 0 | M41: 0 | N41: =+O41+P41 -> 0 | O41: 0 | P41: 0 | Q41: 0 | R41: I.1.spec. programinė įranga
B42: B.1.3. | C42: kitas nematerialus turtas | D42: =O42+E42+I42+M42+P42+Q42 -> 0 | E42: =SUM(F42:H42) -> 0 | F42: 0 | G42: 0 | H42: 0 | I42: =SUM(J42:L42) -> 0 | J42: 0 | K42: 0 | L42: 0 | M42: 0 | N42: =+O42+P42 -> 0 | O42: 0 | P42: 0 | Q42: 0 | R42: I.1.kitas nematerialus turtas
B43: B.2. | C43: PASTATAI IR STATINIAI | D43: =O43+E43+I43+M43+P43+Q43 -> 9176.0679 | E43: =SUM(F43:H43) -> 3859.558 | F43: =SUM(F44:F49) -> 200.0835 | G43: =SUM(G44:G49) -> 253.07679 | H43: =SUM(H44:H49) -> 3406.3977 | I43: =SUM(J43:L43) -> 4331.2615 | J43: =SUM(J44:J49) -> 3589.2535 | K43: =SUM(K44:K49) -> 733.57124 | L43: =SUM(L44:L49) -> 8.43675 | M43: =SUM(M44:M49) -> 985.24839 | N43: =+O43+P43 -> 0 | O43: =SUM(O44:O49) -> 0 | P43: =SUM(P44:P49) -> 0 | Q43: =SUM(Q44:Q49) -> 0
B44: B.2.1. | C44: Pastatai (administraciniai, gamybiniai-ūkiniai ir pan.) | D44: =O44+E44+I44+M44+P44+Q44 -> 432.54463 | E44: =SUM(F44:H44) -> 161.6625 | F44: 14.43998 | G44: 147.22252 | H44: 0 | I44: =SUM(J44:L44) -> 270.88213 | J44: 9.94531 | K44: 257.17214 | L44: 3.76468 | M44: 0 | N44: =+O44+P44 -> 0 | O44: 0 | P44: 0 | Q44: 0 | R44: II.2.1.Pastatai
...

Sheet 7
C2: Ūkio subjektas: UAB „Kretingos vandenys“ | Q2: Geriamojo vandens tiekimo ir nuotekų tvarkymo bei paviršinių nuotekų tvarkymo paslaugų įmonių apskaitos atskyrimo taisyklių ir susijusių reikalavimų sąvado 7 priedas
C3: Ataskaitinis laikotarpis: 2025-01-01 - 2025-12-31
C5: Ataskaitinio laikotarpio reguliuojamo ilgalaikio turto likutinės vertės ( suskaičiuotos pagal Sąvado nuostatas) paskirstymo verslo vienetams ir paslaugoms ataskaita (tūkst. Eur)
F8: II.Gavyba | G8: II.Ruošimas | H8: II.Pristatymas | J8: III.Surinkimas | K8: III.Valymas | L8: III.Dumblas | M8: III.Pav.nuotekos | O8: I.Apskaitos veikla | P8: IV.Kita_reguliuojama | Q8: V.Nereguliuojama
B9: Eil. Nr. | C9: ILGALAIKIS TURTAS | D9: 1. IŠ VISO | E9: 2. Iš viso GVT | F9: 2.1. Geriamojo vandens gavyba | G9: 2.2. Geriamojo vandens ruošimas | H9: 2.3. Geriamojo vandens pristatymas | I9: 3. Iš viso NT | J9: 3.1. Nuotekų surinkimas | K9: 3.2. Nuotekų valymas | L9: 3.3. Nuotekų dumblo tvarkymas | M9: 4. Paviršinių nuotekų tvarkymas (tik esant atskirai paviršinių nuotekų tvarkymo sistemai) | N9: 5. Kitos reguliuojamosios veiklos verslo vienetas | O9: 5.1. Apskaitos veikla | P9: 5.2. Kita reguliuojama veikla | Q9: 6. Kitos veiklos (nereguliuojamosios veiklos) verslo vienetas
B10: A. | C10: PASKIRSTOMAS ILGALAIKIS TURTAS | D10: =D11+D15+D22+D25+D31+D34 -> 6917.089 | E10: =E11+E15+E22+E25+E31+E34 -> 2917.5238 | F10: =F11+F15+F22+F25+F31+F34 -> 133.7843 | G10: =G11+G15+G22+G25+G31+G34 -> 262.686 | H10: =H11+H15+H22+H25+H31+H34 -> 2521.0535 | I10: =I11+I15+I22+I25+I31+I34 -> 3344.7298 | J10: =J11+J15+J22+J25+J31+J34 -> 2789.2409 | K10: =K11+K15+K22+K25+K31+K34 -> 545.82306 | ... M10: =M11+M15+M22+M25+M31+M34 -> 630.14101 | N10: =+O10+P10 -> 14.91213 | O10: =O11+O15+O22+O25+O31+O34 -> 14.91213 | P10: =P11+P15+P22+P25+P31+P34 -> 0 | Q10: =Q11+Q15+Q22+Q25+Q31+Q34 -> 9.7821984
B11: A.1. | C11: NEMATERIALUSIS TURTAS | D11: =O11+E11+I11+M11+P11+Q11 -> 10.512242 | E11: =SUM(F11:H11) -> 5.1988234 | F11: =SUM(F12:F14) -> 2.9400286 | G11: =SUM(G12:G14) -> 0.43322435 | H11: =SUM(H12:H14) -> 1.8255704 | I11: =SUM(J11:L11) -> 4.2145796 | J11: =SUM(J12:J14) -> 3.117803 | K11: =SUM(K12:K14) -> 1.009283 | L11: =SUM(L12:L14) -> 0.087493573 | M11: =SUM(M12:M14) -> 0.18768451 | N11: =+O11+P11 -> 0.90733642 | O11: =SUM(O12:O14) -> 0.90733642 | P11: =SUM(P12:P14) -> 0 | Q11: =SUM(Q12:Q14) -> 0.0038177266
B12: A.1.1. | C12: standartinė programinė įranga | D12: =O12+E12+I12+M12+P12+Q12 -> 10.512242 | E12: =SUM(F12:H12) -> 5.1988234 | F12: =SUM(F40,F68,F118) -> 2.9400286 | G12: =SUM(G40,G68,G118) -> 0.43322435 | H12: =SUM(H40,H68,H118) -> 1.8255704 | I12: =SUM(J12:L12) -> 4.2145796 | J12: =SUM(J40,J68,J118) -> 3.117803 | K12: =SUM(K40,K68,K118) -> 1.009283 | L12: =SUM(L40,L68,L118) -> 0.087493573 | M12: =SUM(M40,M68,M118) -> 0.18768451 | N12: =+O12+P12 -> 0.90733642 | O12: =SUM(O40,O68,O118) -> 0.90733642 | P12: =SUM(P40,P68,P118) -> 0 | Q12: =SUM(Q40,Q68,Q118) -> 0.0038177266
B13: A.1.2. | C13: spec. programinė įranga | D13: =O13+E13+I13+M13+P13+Q13 -> 0 | E13: =SUM(F13:H13) -> 0 | F13: =SUM(F41,F69,F119) -> 0 | G13: =SUM(G41,G69,G119) -> 0 | H13: =SUM(H41,H69,H119) -> 0 | I13: =SUM(J13:L13) -> 0 | J13: =SUM(J41,J69,J119) -> 0 | K13: =SUM(K41,K69,K119) -> 0 | L13: =SUM(L41,L69,L119) -> 0 | M13: =SUM(M41,M69,M119) -> 0 | N13: =+O13+P13 -> 0 | O13: =SUM(O41,O69,O119) -> 0 | P13: =SUM(P41,P69,P119) -> 0 | Q13: =SUM(Q41,Q69,Q119) -> 0
B14: A.1.3. | C14: kitas nematerialus turtas | D14: =O14+E14+I14+M14+P14+Q14 -> 0 | E14: =SUM(F14:H14) -> 0 | F14: =SUM(F42,F70,F120) -> 0 | G14: =SUM(G42,G70,G120) -> 0 | H14: =SUM(H42,H70,H120) -> 0 | I14: =SUM(J14:L14) -> 0 | J14: =SUM(J42,J70,J120) -> 0 | K14: =SUM(K42,K70,K120) -> 0 | L14: =SUM(L42,L70,L120) -> 0 | M14: =SUM(M42,M70,M120) -> 0 | N14: =+O14+P14 -> 0 | O14: =SUM(O42,O70,O120) -> 0 | P14: =SUM(P42,P70,P120) -> 0 | Q14: =SUM(Q42,Q70,Q120) -> 0
B15: A.2. | C15: PASTATAI IR STATINIAI | D15: =O15+E15+I15+M15+P15+Q15 -> 6675.8979 | E15: =SUM(F15:H15) -> 2822.2359 | F15: =SUM(F16:F21) -> 125.78856 | G15: =SUM(G16:G21) -> 208.76776 | H15: =SUM(H16:H21) -> 2487.6796 | I15: =SUM(J15:L15) -> 3223.8671 | J15: =SUM(J16:J21) -> 2712.4986 | K15: =SUM(K16:K21) -> 503.65643 | L15: =SUM(L16:L21) -> 7.7119941 | M15: =SUM(M16:M21) -> 626.81202 | N15: =+O15+P15 -> 2.3347898 | O15: =SUM(O16:O21) -> 2.3347898 | P15: =SUM(P16:P21) -> 0 | Q15: =SUM(Q16:Q21) -> 0.64813085
B16: A.2.1. | C16: Pastatai (administraciniai, gamybiniai-ūkiniai ir pan.) | D16: =O16+E16+I16+M16+P16+Q16 -> 359.31986 | E16: =SUM(F16:H16) -> 155.72198 | F16: =SUM(F44,F72,F122) -> 9.3532232 | G16: =SUM(G44,G72,G122) -> 128.27479 | H16: =SUM(H44,H72,H122) -> 18.093966 | I16: =SUM(J16:L16) -> 198.06135 | J16: =SUM(J44,J72,J122) -> 30.505004 | K16: =SUM(K44,K72,K122) -> 162.98531 | L16: =SUM(L44,L72,L122) -> 4.5710378 | M16: =SUM(M44,M72,M122) -> 2.5679106 | N16: =+O16+P16 -> 2.3245386 | O16: =SUM(O44,O72,O122) -> 2.3245386 | P16: =SUM(P44,P72,P122) -> 0 | Q16: =SUM(Q44,Q72,Q122) -> 0.64407304
B17: A.2.2. | C17: keliai, aikštelės, šaligatviai ir tvoros | D17: =O17+E17+I17+M17+P17+Q17 -> 45.297133 | E17: =SUM(F17:H17) -> 28.42044 | F17: =SUM(F45,F73,F123) -> 12.732082 | G17: =SUM(G45,G73,G123) -> 14.495067 | H17: =SUM(H45,H73,H123) -> 1.1932917 | I17: =SUM(J17:L17) -> 16.745212 | J17: =SUM(J45,J73,J123) -> 7.1115563 | K17: =SUM(K45,K73,K123) -> 9.5764655 | L17: =SUM(L45,L73,L123) -> 0.057190539 | M17: =SUM(M45,M73,M123) -> 0.12268076 | N17: =+O17+P17 -> 0.0063043363 | O17: =SUM(O45,O73,O123) -> 0.0063043363 | P17: =SUM(P45,P73,P123) -> 0 | Q17: =SUM(Q45,Q73,Q123) -> 0.0024954729
B18: A.2.3. | C18: geriamojo vandens tiekimo ir nuotekų surinkimo vamzdynai | D18: =O18+E18+I18+M18+P18+Q18 -> 5564.6026 | E18: =SUM(F18:H18) -> 2466.5319 | F18: =SUM(F46,F74,F124) -> 0 | G18: =SUM(G46,G74,G124) -> 0 | H18: =SUM(H46,H74,H124) -> 2466.5319 | I18: =SUM(J18:L18) -> 2474.0261 | J18: =SUM(J46,J74,J124) -> 2474.0261 | K18: =SUM(K46,K74,K124) -> 0 | L18: =SUM(L46,L74,L124) -> 0 | M18: =SUM(M46,M74,M124) -> 624.04462 | N18: =+O18+P18 -> 0 | O18: =SUM(O46,O74,O124) -> 0 | P18: =SUM(P46,P74,P124) -> 0 | Q18: =SUM(Q46,Q74,Q124) -> 0
B19: A.2.4. | C19: šilumos ir karšto vandens tiekimo vamzdynai | D19: =O19+E19+I19+M19+P19+Q19 -> 0 | E19: =SUM(F19:H19) -> 0 | F19: =SUM(F47,F75,F125) -> 0 | G19: =SUM(G47,G75,G125) -> 0 | H19: =SUM(H47,H75,H125) -> 0 | I19: =SUM(J19:L19) -> 0 | J19: =SUM(J47,J75,J125) -> 0 | K19: =SUM(K47,K75,K125) -> 0 | L19: =SUM(L47,L75,L125) -> 0 | M19: =SUM(M47,M75,M125) -> 0 | N19: =+O19+P19 -> 0 | O19: =SUM(O47,O75,O125) -> 0 | P19: =SUM(P47,P75,P125) -> 0 | Q19: =SUM(Q47,Q75,Q125) -> 0
B20: A.2.5. | C20: saulės šviesos elektrinės | D20: =O20+E20+I20+M20+P20+Q20 -> 0 | E20: =SUM(F20:H20) -> 0 | F20: =SUM(F48,F76,F126) -> 0 | G20: =SUM(G48,G76,G126) -> 0 | H20: =SUM(H48,H76,H126) -> 0 | I20: =SUM(J20:L20) -> 0 | J20: =SUM(J48,J76,J126) -> 0 | K20: =SUM(K48,K76,K126) -> 0 | L20: =SUM(L48,L76,L126) -> 0 | M20: =SUM(M48,M76,M126) -> 0 | N20: =+O20+P20 -> 0 | O20: =SUM(O48,O76,O126) -> 0 | P20: =SUM(P48,P76,P126) -> 0 | Q20: =SUM(Q48,Q76,Q126) -> 0
B21: A.2.6. | C21: Kiti įrenginiai (vandentiekio įrenginiai, nusodintuvai, diukeriai, vandens rezervuarai, gelžbetoniniai metantankai, smėlio gaudytuvai, aerotankai, nusodintuvai, nuotekų valymo flotatoriai, dumblo aikštelės ir kt.) | D21: =O21+E21+I21+M21+P21+Q21 -> 706.67837 | E21: =SUM(F21:H21) -> 171.56161 | F21: =SUM(F49,F77,F127) -> 103.70325 | G21: =SUM(G49,G77,G127) -> 65.997895 | H21: =SUM(H49,H77,H127) -> 1.8604611 | I21: =SUM(J21:L21) -> 535.03445 | J21: =SUM(J49,J77,J127) -> 200.85603 | K21: =SUM(K49,K77,K127) -> 331.09465 | L21: =SUM(L49,L77,L127) -> 3.0837657 | M21: =SUM(M49,M77,M127) -> 0.076806788 | N21: =+O21+P21 -> 0.0039469581 | O21: =SUM(O49,O77,O127) -> 0.0039469581 | P21: =SUM(P49,P77,P127) -> 0 | Q21: =SUM(Q49,Q77,Q127) -> 0.0015623416
B22: A.3. | C22: MAŠINOS IR ĮRANGA | D22: =O22+E22+I22+M22+P22+Q22 -> 140.44906 | E22: =SUM(F22:H22) -> 63.327859 | F22: =SUM(F23:F24) -> 3.0412727 | G22: =SUM(G23:G24) -> 48.270066 | H22: =SUM(H23:H24) -> 12.016521 | I22: =SUM(J22:L22) -> 67.493913 | J22: =SUM(J23:J24) -> 41.765744 | K22: =SUM(K23:K24) -> 25.267484 | L22: =SUM(L23:L24) -> 0.46068468 | M22: =SUM(M23:M24) -> 0.88031503 | N22: =+O22+P22 -> 0.25519979 | O22: =SUM(O23:O24) -> 0.25519979 | P22: =SUM(P23:P24) -> 0 | Q22: =SUM(Q23:Q24) -> 8.4917779
B23: A.3.1. | C23: vandens siurbliai, nuotekų ir dumblo siurbliai virš 5 kW, kita įranga ( siurblių valdymo įranga, elektrotechninė įranga, stacionarios ir mobilios darbo bei hidrodinaminės mašinos, staklės, sklendės, grotelės, grėbliai, grandikliai, filtrai, centrifugos) | D23: =O23+E23+I23+M23+P23+Q23 -> 138.86194 | E23: =SUM(F23:H23) -> 63.327859 | F23: =SUM(F51,F79,F129) -> 3.0412727 | G23: =SUM(G51,G79,G129) -> 48.270066 | H23: =SUM(H51,H79,H129) -> 12.016521 | I23: =SUM(J23:L23) -> 65.906792 | J23: =SUM(J51,J79,J129) -> 40.178624 | K23: =SUM(K51,K79,K129) -> 25.267484 | L23: =SUM(L51,L79,L129) -> 0.46068468 | M23: =SUM(M51,M79,M129) -> 0.88031503 | N23: =+O23+P23 -> 0.25519979 | O23: =SUM(O51,O79,O129) -> 0.25519979 | P23: =SUM(P51,P79,P129) -> 0 | Q23: =SUM(Q51,Q79,Q129) -> 8.4917779
B24: A.3.2. | C24: nuotekų ir dumblo siurbliai iki 5 kW | D24: =O24+E24+I24+M24+P24+Q24 -> 1.5871203 | E24: =SUM(F24:H24) -> 0 | F24: =SUM(F52,F80) -> 0 | G24: =SUM(G52,G80) -> 0 | H24: =SUM(H52,H80) -> 0 | I24: =SUM(J24:L24) -> 1.5871203 | J24: =SUM(J52,J80) -> 1.5871203 | K24: =SUM(K52,K80) -> 0 | L24: =SUM(L52,L80) -> 0 | M24: =SUM(M52,M80) -> 0 | N24: =+O24+P24 -> 0 | O24: =SUM(O52,O80) -> 0 | P24: =SUM(P52,P80) -> 0 | Q24: =SUM(Q52,Q80) -> 0
B25: A.4. | C25: KITI ĮRENGINIAI, PRIETAISAI IR ĮRANKIAI | D25: =O25+E25+I25+M25+P25+Q25 -> 30.555341 | E25: =SUM(F25:H25) -> 6.492163 | F25: =SUM(F26:F30) -> 0.61765029 | G25: =SUM(G26:G30) -> 1.4779824 | H25: =SUM(H26:H30) -> 4.3965303 | I25: =SUM(J25:L25) -> 14.222184 | J25: =SUM(J26:J30) -> 7.8905238 | K25: =SUM(K26:K30) -> 6.1147309 | L25: =SUM(L26:L30) -> 0.21692901 | M25: =SUM(M26:M30) -> 0.32153178 | N25: =+O25+P25 -> 9.4373947 | O25: =SUM(O26:O30) -> 9.4373947 | P25: =SUM(P26:P30) -> 0 | Q25: =SUM(Q26:Q30) -> 0.082068286
B26: A.4.1. | C26: geriamojo vandens apskaitos prietaisai | D26: =O26+E26+I26+M26+P26+Q26 -> 8.9751769 | E26: =SUM(F26:H26) -> 0 | F26: =SUM(F54,F82,F131) -> 0 | G26: =SUM(G54,G82,G131) -> 0 | H26: =SUM(H54,H82,H131) -> 0 | I26: =SUM(J26:L26) -> 0 | J26: =SUM(J54,J82,J131) -> 0 | K26: =SUM(K54,K82,K131) -> 0 | L26: =SUM(L54,L82,L131) -> 0 | M26: =SUM(M54,M82,M131) -> 0 | N26: =+O26+P26 -> 8.9751769 | O26: =SUM(O54,O82,O131) -> 8.9751769 | P26: =SUM(P54,P82,P131) -> 0 | Q26: =SUM(Q54,Q82,Q131) -> 0
